BEGIN:VCALENDAR
VERSION:2.0
PRODID:-//destination.one//NONSGML destination.meta API//DE
X-WR-CALDESC:A calendar powered by destination.meta
X-WR-CALNAME:lra-cham Kalender via destination.meta
BEGIN:VEVENT
CATEGORIES:Konzert
DESCRIPTION:\n\nmehr Informationen unter http://pages.destination.one/de/lr
 a-cham/streaming/detail/Event/e_101243628/free-vocals-auf-der-flussb-hne-r
 oding
DTEND;TZID=Europe/Berlin:20260621T235900
DTSTAMP:20260423T232141Z
DTSTART;TZID=Europe/Berlin:20260621T200000
GEO:49.197340;12.515799
LOCATION:Flussbühne Roding\,  Rodinger Terassen\, Roding
ORGANIZER;CN=Stadt Roding Rathaus:mailto:poststelle@roding.de
SEQUENCE:0
SUMMARY:Free Vocals auf der Flussbühne Roding
UID:e_101243628_iv0
URL:http://pages.destination.one/de/lra-cham/streaming/detail/Event/e_10124
 3628/free-vocals-auf-der-flussb-hne-roding
END:VEVENT
BEGIN:VTIMEZONE
TZID:Europe/Berlin
X-LIC-LOCATION:Europe/Berlin
BEGIN:DAYLIGHT
DTSTART:19700329T020000
RRULE:FREQ=YEARLY;BYDAY=-1SU;BYMONTH=3
TZNAME:CEST
TZOFFSETFROM:+0100
TZOFFSETTO:+0200
END:DAYLIGHT
BEGIN:STANDARD
DTSTART:19701025T030000
RRULE:FREQ=YEARLY;BYDAY=-1SU;BYMONTH=10
TZNAME:CET
TZOFFSETFROM:+0200
TZOFFSETTO:+0100
END:STANDARD
END:VTIMEZONE
END:VCALENDAR
