BEGIN:VCALENDAR
VERSION:2.0
PRODID:-//destination.one//NONSGML destination.meta API//DE
X-WR-CALDESC:A calendar powered by destination.meta
X-WR-CALNAME:landkreis-cham Kalender via destination.meta
BEGIN:VEVENT
CATEGORIES:Ausstellung
CATEGORIES:Führung/Besichtigung
DESCRIPTION:Im Anschluss an die Mitmachaktion "Handwriting the Constitution
 " (10:30-13 Uhr) auf dem Chamer Marktplatz\, führt Kuratorin Anjalie Chaub
 al durch die Ausstellung.\n\nmehr Informationen unter http://pages.destina
 tion.one/de/landkreis-cham/streaming/detail/Event/e_101260335/kuratorenf-h
 rung-in-der-ausstellung-johannes-felder-jess-walter
DTEND;TZID=Europe/Berlin:20260523T150000
DTSTAMP:20260424T004755Z
DTSTART;TZID=Europe/Berlin:20260523T140000
GEO:49.216448;12.666807
LOCATION:Städtische Galerie im Cordonhaus\, Propsteistraße 46\, Cham
ORGANIZER;CN=Städtische Galerie im Cordonhaus:mailto:cordonhaus@cham.de
SEQUENCE:0
SUMMARY:Kuratorenführung in der Ausstellung "Johannes Felder - Jess Walter"
UID:e_101260335_iv0
URL:http://pages.destination.one/de/landkreis-cham/streaming/detail/Event/e
 _101260335/kuratorenf-hrung-in-der-ausstellung-johannes-felder-jess-walter
END:VEVENT
BEGIN:VTIMEZONE
TZID:Europe/Berlin
X-LIC-LOCATION:Europe/Berlin
BEGIN:DAYLIGHT
DTSTART:19700329T020000
RRULE:FREQ=YEARLY;BYDAY=-1SU;BYMONTH=3
TZNAME:CEST
TZOFFSETFROM:+0100
TZOFFSETTO:+0200
END:DAYLIGHT
BEGIN:STANDARD
DTSTART:19701025T030000
RRULE:FREQ=YEARLY;BYDAY=-1SU;BYMONTH=10
TZNAME:CET
TZOFFSETFROM:+0200
TZOFFSETTO:+0100
END:STANDARD
END:VTIMEZONE
END:VCALENDAR
