BEGIN:VCALENDAR
VERSION:2.0
PRODID:-//destination.one//NONSGML destination.meta API//DE
X-WR-CALDESC:A calendar powered by destination.meta
X-WR-CALNAME:landkreis-cham Kalender via destination.meta
BEGIN:VEVENT
CATEGORIES:Bühnenkunst
CATEGORIES:Führung/Besichtigung
CATEGORIES:Geselligkeit/Spiele/Treffen
DESCRIPTION:Wollen Sie das Landesgartenschau-Feeling noch einmal aufleben l
 assen?\n\nmehr Informationen unter http://pages.destination.one/de/landkre
 is-cham/streaming/detail/Event/e_101259145/vorbei-und-was-jetzt-interaktiv
 er-impro-theaterrundgang
DTEND;TZID=Europe/Berlin:20260514T200000
DTSTAMP:20260423T020224Z
DTSTART;TZID=Europe/Berlin:20260514T180000
GEO:49.303496;12.847953
LOCATION:ehem. Haupteingang Landesgartenschau (dm-Markt)\, Kötztinger Straß
 e \, Furth im Wald
ORGANIZER;CN=Tourist-Information Furth im Wald:mailto:tourist@furth.de
SEQUENCE:0
SUMMARY:VORBEI! - UND WAS JETZT? - Interaktiver Impro-Theaterrundgang
UID:e_101259145_iv0
URL:http://pages.destination.one/de/landkreis-cham/streaming/detail/Event/e
 _101259145/vorbei-und-was-jetzt-interaktiver-impro-theaterrundgang
END:VEVENT
BEGIN:VEVENT
CATEGORIES:Bühnenkunst
CATEGORIES:Führung/Besichtigung
CATEGORIES:Geselligkeit/Spiele/Treffen
DESCRIPTION:Wollen Sie das Landesgartenschau-Feeling noch einmal aufleben l
 assen?\n\nmehr Informationen unter http://pages.destination.one/de/landkre
 is-cham/streaming/detail/Event/e_101259145/vorbei-und-was-jetzt-interaktiv
 er-impro-theaterrundgang
DTEND;TZID=Europe/Berlin:20260709T200000
DTSTAMP:20260423T020224Z
DTSTART;TZID=Europe/Berlin:20260709T180000
GEO:49.303496;12.847953
LOCATION:ehem. Haupteingang Landesgartenschau (dm-Markt)\, Kötztinger Straß
 e \, Furth im Wald
ORGANIZER;CN=Tourist-Information Furth im Wald:mailto:tourist@furth.de
SEQUENCE:0
SUMMARY:VORBEI! - UND WAS JETZT? - Interaktiver Impro-Theaterrundgang
UID:e_101259145_iv1
URL:http://pages.destination.one/de/landkreis-cham/streaming/detail/Event/e
 _101259145/vorbei-und-was-jetzt-interaktiver-impro-theaterrundgang
END:VEVENT
BEGIN:VEVENT
CATEGORIES:Bühnenkunst
CATEGORIES:Führung/Besichtigung
CATEGORIES:Geselligkeit/Spiele/Treffen
DESCRIPTION:Wollen Sie das Landesgartenschau-Feeling noch einmal aufleben l
 assen?\n\nmehr Informationen unter http://pages.destination.one/de/landkre
 is-cham/streaming/detail/Event/e_101259145/vorbei-und-was-jetzt-interaktiv
 er-impro-theaterrundgang
DTEND;TZID=Europe/Berlin:20260917T200000
DTSTAMP:20260423T020224Z
DTSTART;TZID=Europe/Berlin:20260917T180000
GEO:49.303496;12.847953
LOCATION:ehem. Haupteingang Landesgartenschau (dm-Markt)\, Kötztinger Straß
 e \, Furth im Wald
ORGANIZER;CN=Tourist-Information Furth im Wald:mailto:tourist@furth.de
SEQUENCE:0
SUMMARY:VORBEI! - UND WAS JETZT? - Interaktiver Impro-Theaterrundgang
UID:e_101259145_iv2
URL:http://pages.destination.one/de/landkreis-cham/streaming/detail/Event/e
 _101259145/vorbei-und-was-jetzt-interaktiver-impro-theaterrundgang
END:VEVENT
BEGIN:VEVENT
CATEGORIES:Bühnenkunst
CATEGORIES:Führung/Besichtigung
CATEGORIES:Geselligkeit/Spiele/Treffen
DESCRIPTION:Wollen Sie das Landesgartenschau-Feeling noch einmal aufleben l
 assen?\n\nmehr Informationen unter http://pages.destination.one/de/landkre
 is-cham/streaming/detail/Event/e_101259145/vorbei-und-was-jetzt-interaktiv
 er-impro-theaterrundgang
DTEND;TZID=Europe/Berlin:20261008T200000
DTSTAMP:20260423T020224Z
DTSTART;TZID=Europe/Berlin:20261008T180000
GEO:49.303496;12.847953
LOCATION:ehem. Haupteingang Landesgartenschau (dm-Markt)\, Kötztinger Straß
 e \, Furth im Wald
ORGANIZER;CN=Tourist-Information Furth im Wald:mailto:tourist@furth.de
SEQUENCE:0
SUMMARY:VORBEI! - UND WAS JETZT? - Interaktiver Impro-Theaterrundgang
UID:e_101259145_iv3
URL:http://pages.destination.one/de/landkreis-cham/streaming/detail/Event/e
 _101259145/vorbei-und-was-jetzt-interaktiver-impro-theaterrundgang
END:VEVENT
BEGIN:VTIMEZONE
TZID:Europe/Berlin
X-LIC-LOCATION:Europe/Berlin
BEGIN:DAYLIGHT
DTSTART:19700329T020000
RRULE:FREQ=YEARLY;BYDAY=-1SU;BYMONTH=3
TZNAME:CEST
TZOFFSETFROM:+0100
TZOFFSETTO:+0200
END:DAYLIGHT
BEGIN:STANDARD
DTSTART:19701025T030000
RRULE:FREQ=YEARLY;BYDAY=-1SU;BYMONTH=10
TZNAME:CET
TZOFFSETFROM:+0200
TZOFFSETTO:+0100
END:STANDARD
END:VTIMEZONE
END:VCALENDAR
