BEGIN:VCALENDAR
VERSION:2.0
PRODID:-//destination.one//NONSGML destination.meta API//DE
X-WR-CALDESC:A calendar powered by destination.meta
X-WR-CALNAME:landkreis-cham Kalender via destination.meta
BEGIN:VEVENT
CATEGORIES:Naturführungen
CATEGORIES:Vortrag/Lesung/Vorführung
DESCRIPTION:Vortrag im Rahmen des Pflanzerlmarktes\n\nmehr Informationen un
 ter http://pages.destination.one/de/landkreis-cham/streaming/detail/Event/
 e_101258987/vortrag-schlampern-erlaubt-der-weg-zum-insektenfreundlichen-ga
 rten-auf-dem-pflanzerlmarkt
DTEND;TZID=Europe/Berlin:20260611T184500
DTSTAMP:20260422T213027Z
DTSTART;TZID=Europe/Berlin:20260611T180000
GEO:49.217751;12.666228
LOCATION:Marktplatz Cham\, Marktplatz\, Cham
ORGANIZER;CN=Tourist-Info Cham:mailto:tourist@cham.de
SEQUENCE:0
SUMMARY:Vortrag "Schlampern erlaubt! Der Weg zum insektenfreundlichen Garte
 n" auf dem Pflanzerlmarkt
UID:e_101258987_iv0
URL:http://pages.destination.one/de/landkreis-cham/streaming/detail/Event/e
 _101258987/vortrag-schlampern-erlaubt-der-weg-zum-insektenfreundlichen-gar
 ten-auf-dem-pflanzerlmarkt
END:VEVENT
BEGIN:VTIMEZONE
TZID:Europe/Berlin
X-LIC-LOCATION:Europe/Berlin
BEGIN:DAYLIGHT
DTSTART:19700329T020000
RRULE:FREQ=YEARLY;BYDAY=-1SU;BYMONTH=3
TZNAME:CEST
TZOFFSETFROM:+0100
TZOFFSETTO:+0200
END:DAYLIGHT
BEGIN:STANDARD
DTSTART:19701025T030000
RRULE:FREQ=YEARLY;BYDAY=-1SU;BYMONTH=10
TZNAME:CET
TZOFFSETFROM:+0200
TZOFFSETTO:+0100
END:STANDARD
END:VTIMEZONE
END:VCALENDAR
