BEGIN:VCALENDAR
VERSION:2.0
PRODID:-//destination.one//NONSGML destination.meta API//DE
X-WR-CALDESC:A calendar powered by destination.meta
X-WR-CALNAME:landkreis-cham Kalender via destination.meta
BEGIN:VEVENT
CATEGORIES:Feste/Bälle/Tanz
DESCRIPTION:\n\nmehr Informationen unter http://pages.destination.one/de/la
 ndkreis-cham/streaming/detail/Event/e_101258781/drachenstich-volksfest-2-f
 reinacht
DTEND;TZID=Europe/Berlin:20260816T020000
DTSTAMP:20260423T014435Z
DTSTART;TZID=Europe/Berlin:20260815T150000
GEO:49.307879;12.844481
LOCATION:Furth im Wald\, Stadtplatz 2\, Furth im Wald
ORGANIZER;CN=Festwirte Mühlbauer & Späth GbR:mailto:info@festwirte-furth.de
SEQUENCE:0
SUMMARY:Drachenstich Volksfest 2. Freinacht
UID:e_101258781_iv0
URL:http://pages.destination.one/de/landkreis-cham/streaming/detail/Event/e
 _101258781/drachenstich-volksfest-2-freinacht
END:VEVENT
BEGIN:VTIMEZONE
TZID:Europe/Berlin
X-LIC-LOCATION:Europe/Berlin
BEGIN:DAYLIGHT
DTSTART:19700329T020000
RRULE:FREQ=YEARLY;BYDAY=-1SU;BYMONTH=3
TZNAME:CEST
TZOFFSETFROM:+0100
TZOFFSETTO:+0200
END:DAYLIGHT
BEGIN:STANDARD
DTSTART:19701025T030000
RRULE:FREQ=YEARLY;BYDAY=-1SU;BYMONTH=10
TZNAME:CET
TZOFFSETFROM:+0200
TZOFFSETTO:+0100
END:STANDARD
END:VTIMEZONE
END:VCALENDAR
