BEGIN:VCALENDAR
VERSION:2.0
PRODID:-//destination.one//NONSGML destination.meta API//DE
X-WR-CALDESC:A calendar powered by destination.meta
X-WR-CALNAME:landkreis-cham Kalender via destination.meta
BEGIN:VEVENT
CATEGORIES:Feste/Bälle/Tanz
DESCRIPTION:\n\nmehr Informationen unter http://pages.destination.one/de/la
 ndkreis-cham/streaming/detail/Event/e_101258768/1-freinacht-drachenstichvo
 lksfest-mit-der-oktoberfestkapelle-mathias-achatz
DTEND;TZID=Europe/Berlin;VALUE=DATE:20260809
DTSTAMP:20260423T021215Z
DTSTART;TZID=Europe/Berlin;VALUE=DATE:20260808
GEO:49.307879;12.844481
LOCATION:Furth im Wald\, Stadtplatz 2\, Furth im Wald
ORGANIZER;CN=Festwirte Mühlbauer & Späth GbR:mailto:info@festwirte-furth.de
SEQUENCE:0
SUMMARY:1. Freinacht / Drachenstichvolksfest mit der Oktoberfestkapelle Mat
 hias Achatz
UID:e_101258768_iv0
URL:http://pages.destination.one/de/landkreis-cham/streaming/detail/Event/e
 _101258768/1-freinacht-drachenstichvolksfest-mit-der-oktoberfestkapelle-ma
 thias-achatz
END:VEVENT
BEGIN:VTIMEZONE
TZID:Europe/Berlin
X-LIC-LOCATION:Europe/Berlin
BEGIN:DAYLIGHT
DTSTART:19700329T020000
RRULE:FREQ=YEARLY;BYDAY=-1SU;BYMONTH=3
TZNAME:CEST
TZOFFSETFROM:+0100
TZOFFSETTO:+0200
END:DAYLIGHT
BEGIN:STANDARD
DTSTART:19701025T030000
RRULE:FREQ=YEARLY;BYDAY=-1SU;BYMONTH=10
TZNAME:CET
TZOFFSETFROM:+0200
TZOFFSETTO:+0100
END:STANDARD
END:VTIMEZONE
END:VCALENDAR
