BEGIN:VCALENDAR
VERSION:2.0
PRODID:-//destination.one//NONSGML destination.meta API//DE
X-WR-CALDESC:A calendar powered by destination.meta
X-WR-CALNAME:landkreis-cham Kalender via destination.meta
BEGIN:VEVENT
CATEGORIES:Gesundheit/Wellness
DESCRIPTION:Yoga im Einklang mit der Natur\n\nmehr Informationen unter http
 ://pages.destination.one/de/landkreis-cham/streaming/detail/Event/e_101258
 376/yoga-im-einklang-mit-der-natur
DTEND;TZID=Europe/Berlin:20260506T183000
DTSTAMP:20260422T025512Z
DTSTART;TZID=Europe/Berlin:20260506T173000
GEO:49.137762;13.130391
LOCATION:Panoramagarten bei der Mooshütte\, Mooshütte 3\, Lohberg
SEQUENCE:0
SUMMARY:YOGA im Einklang mit der Natur
UID:e_101258376_iv0
URL:http://pages.destination.one/de/landkreis-cham/streaming/detail/Event/e
 _101258376/yoga-im-einklang-mit-der-natur
END:VEVENT
BEGIN:VEVENT
CATEGORIES:Gesundheit/Wellness
DESCRIPTION:Yoga im Einklang mit der Natur\n\nmehr Informationen unter http
 ://pages.destination.one/de/landkreis-cham/streaming/detail/Event/e_101258
 376/yoga-im-einklang-mit-der-natur
DTEND;TZID=Europe/Berlin:20260513T183000
DTSTAMP:20260422T025512Z
DTSTART;TZID=Europe/Berlin:20260513T173000
GEO:49.137762;13.130391
LOCATION:Panoramagarten bei der Mooshütte\, Mooshütte 3\, Lohberg
SEQUENCE:0
SUMMARY:YOGA im Einklang mit der Natur
UID:e_101258376_iv1
URL:http://pages.destination.one/de/landkreis-cham/streaming/detail/Event/e
 _101258376/yoga-im-einklang-mit-der-natur
END:VEVENT
BEGIN:VEVENT
CATEGORIES:Gesundheit/Wellness
DESCRIPTION:Yoga im Einklang mit der Natur\n\nmehr Informationen unter http
 ://pages.destination.one/de/landkreis-cham/streaming/detail/Event/e_101258
 376/yoga-im-einklang-mit-der-natur
DTEND;TZID=Europe/Berlin:20260520T183000
DTSTAMP:20260422T025512Z
DTSTART;TZID=Europe/Berlin:20260520T173000
GEO:49.137762;13.130391
LOCATION:Panoramagarten bei der Mooshütte\, Mooshütte 3\, Lohberg
SEQUENCE:0
SUMMARY:YOGA im Einklang mit der Natur
UID:e_101258376_iv2
URL:http://pages.destination.one/de/landkreis-cham/streaming/detail/Event/e
 _101258376/yoga-im-einklang-mit-der-natur
END:VEVENT
BEGIN:VEVENT
CATEGORIES:Gesundheit/Wellness
DESCRIPTION:Yoga im Einklang mit der Natur\n\nmehr Informationen unter http
 ://pages.destination.one/de/landkreis-cham/streaming/detail/Event/e_101258
 376/yoga-im-einklang-mit-der-natur
DTEND;TZID=Europe/Berlin:20260527T183000
DTSTAMP:20260422T025512Z
DTSTART;TZID=Europe/Berlin:20260527T173000
GEO:49.137762;13.130391
LOCATION:Panoramagarten bei der Mooshütte\, Mooshütte 3\, Lohberg
SEQUENCE:0
SUMMARY:YOGA im Einklang mit der Natur
UID:e_101258376_iv3
URL:http://pages.destination.one/de/landkreis-cham/streaming/detail/Event/e
 _101258376/yoga-im-einklang-mit-der-natur
END:VEVENT
BEGIN:VEVENT
CATEGORIES:Gesundheit/Wellness
DESCRIPTION:Yoga im Einklang mit der Natur\n\nmehr Informationen unter http
 ://pages.destination.one/de/landkreis-cham/streaming/detail/Event/e_101258
 376/yoga-im-einklang-mit-der-natur
DTEND;TZID=Europe/Berlin:20260603T183000
DTSTAMP:20260422T025512Z
DTSTART;TZID=Europe/Berlin:20260603T173000
GEO:49.137762;13.130391
LOCATION:Panoramagarten bei der Mooshütte\, Mooshütte 3\, Lohberg
SEQUENCE:0
SUMMARY:YOGA im Einklang mit der Natur
UID:e_101258376_iv4
URL:http://pages.destination.one/de/landkreis-cham/streaming/detail/Event/e
 _101258376/yoga-im-einklang-mit-der-natur
END:VEVENT
BEGIN:VEVENT
CATEGORIES:Gesundheit/Wellness
DESCRIPTION:Yoga im Einklang mit der Natur\n\nmehr Informationen unter http
 ://pages.destination.one/de/landkreis-cham/streaming/detail/Event/e_101258
 376/yoga-im-einklang-mit-der-natur
DTEND;TZID=Europe/Berlin:20260610T183000
DTSTAMP:20260422T025512Z
DTSTART;TZID=Europe/Berlin:20260610T173000
GEO:49.137762;13.130391
LOCATION:Panoramagarten bei der Mooshütte\, Mooshütte 3\, Lohberg
SEQUENCE:0
SUMMARY:YOGA im Einklang mit der Natur
UID:e_101258376_iv5
URL:http://pages.destination.one/de/landkreis-cham/streaming/detail/Event/e
 _101258376/yoga-im-einklang-mit-der-natur
END:VEVENT
BEGIN:VEVENT
CATEGORIES:Gesundheit/Wellness
DESCRIPTION:Yoga im Einklang mit der Natur\n\nmehr Informationen unter http
 ://pages.destination.one/de/landkreis-cham/streaming/detail/Event/e_101258
 376/yoga-im-einklang-mit-der-natur
DTEND;TZID=Europe/Berlin:20260617T183000
DTSTAMP:20260422T025512Z
DTSTART;TZID=Europe/Berlin:20260617T173000
GEO:49.137762;13.130391
LOCATION:Panoramagarten bei der Mooshütte\, Mooshütte 3\, Lohberg
SEQUENCE:0
SUMMARY:YOGA im Einklang mit der Natur
UID:e_101258376_iv6
URL:http://pages.destination.one/de/landkreis-cham/streaming/detail/Event/e
 _101258376/yoga-im-einklang-mit-der-natur
END:VEVENT
BEGIN:VEVENT
CATEGORIES:Gesundheit/Wellness
DESCRIPTION:Yoga im Einklang mit der Natur\n\nmehr Informationen unter http
 ://pages.destination.one/de/landkreis-cham/streaming/detail/Event/e_101258
 376/yoga-im-einklang-mit-der-natur
DTEND;TZID=Europe/Berlin:20260624T183000
DTSTAMP:20260422T025512Z
DTSTART;TZID=Europe/Berlin:20260624T173000
GEO:49.137762;13.130391
LOCATION:Panoramagarten bei der Mooshütte\, Mooshütte 3\, Lohberg
SEQUENCE:0
SUMMARY:YOGA im Einklang mit der Natur
UID:e_101258376_iv7
URL:http://pages.destination.one/de/landkreis-cham/streaming/detail/Event/e
 _101258376/yoga-im-einklang-mit-der-natur
END:VEVENT
BEGIN:VEVENT
CATEGORIES:Gesundheit/Wellness
DESCRIPTION:Yoga im Einklang mit der Natur\n\nmehr Informationen unter http
 ://pages.destination.one/de/landkreis-cham/streaming/detail/Event/e_101258
 376/yoga-im-einklang-mit-der-natur
DTEND;TZID=Europe/Berlin:20260701T183000
DTSTAMP:20260422T025512Z
DTSTART;TZID=Europe/Berlin:20260701T173000
GEO:49.137762;13.130391
LOCATION:Panoramagarten bei der Mooshütte\, Mooshütte 3\, Lohberg
SEQUENCE:0
SUMMARY:YOGA im Einklang mit der Natur
UID:e_101258376_iv8
URL:http://pages.destination.one/de/landkreis-cham/streaming/detail/Event/e
 _101258376/yoga-im-einklang-mit-der-natur
END:VEVENT
BEGIN:VEVENT
CATEGORIES:Gesundheit/Wellness
DESCRIPTION:Yoga im Einklang mit der Natur\n\nmehr Informationen unter http
 ://pages.destination.one/de/landkreis-cham/streaming/detail/Event/e_101258
 376/yoga-im-einklang-mit-der-natur
DTEND;TZID=Europe/Berlin:20260708T183000
DTSTAMP:20260422T025512Z
DTSTART;TZID=Europe/Berlin:20260708T173000
GEO:49.137762;13.130391
LOCATION:Panoramagarten bei der Mooshütte\, Mooshütte 3\, Lohberg
SEQUENCE:0
SUMMARY:YOGA im Einklang mit der Natur
UID:e_101258376_iv9
URL:http://pages.destination.one/de/landkreis-cham/streaming/detail/Event/e
 _101258376/yoga-im-einklang-mit-der-natur
END:VEVENT
BEGIN:VEVENT
CATEGORIES:Gesundheit/Wellness
DESCRIPTION:Yoga im Einklang mit der Natur\n\nmehr Informationen unter http
 ://pages.destination.one/de/landkreis-cham/streaming/detail/Event/e_101258
 376/yoga-im-einklang-mit-der-natur
DTEND;TZID=Europe/Berlin:20260715T183000
DTSTAMP:20260422T025512Z
DTSTART;TZID=Europe/Berlin:20260715T173000
GEO:49.137762;13.130391
LOCATION:Panoramagarten bei der Mooshütte\, Mooshütte 3\, Lohberg
SEQUENCE:0
SUMMARY:YOGA im Einklang mit der Natur
UID:e_101258376_iv10
URL:http://pages.destination.one/de/landkreis-cham/streaming/detail/Event/e
 _101258376/yoga-im-einklang-mit-der-natur
END:VEVENT
BEGIN:VEVENT
CATEGORIES:Gesundheit/Wellness
DESCRIPTION:Yoga im Einklang mit der Natur\n\nmehr Informationen unter http
 ://pages.destination.one/de/landkreis-cham/streaming/detail/Event/e_101258
 376/yoga-im-einklang-mit-der-natur
DTEND;TZID=Europe/Berlin:20260722T183000
DTSTAMP:20260422T025512Z
DTSTART;TZID=Europe/Berlin:20260722T173000
GEO:49.137762;13.130391
LOCATION:Panoramagarten bei der Mooshütte\, Mooshütte 3\, Lohberg
SEQUENCE:0
SUMMARY:YOGA im Einklang mit der Natur
UID:e_101258376_iv11
URL:http://pages.destination.one/de/landkreis-cham/streaming/detail/Event/e
 _101258376/yoga-im-einklang-mit-der-natur
END:VEVENT
BEGIN:VEVENT
CATEGORIES:Gesundheit/Wellness
DESCRIPTION:Yoga im Einklang mit der Natur\n\nmehr Informationen unter http
 ://pages.destination.one/de/landkreis-cham/streaming/detail/Event/e_101258
 376/yoga-im-einklang-mit-der-natur
DTEND;TZID=Europe/Berlin:20260729T183000
DTSTAMP:20260422T025512Z
DTSTART;TZID=Europe/Berlin:20260729T173000
GEO:49.137762;13.130391
LOCATION:Panoramagarten bei der Mooshütte\, Mooshütte 3\, Lohberg
SEQUENCE:0
SUMMARY:YOGA im Einklang mit der Natur
UID:e_101258376_iv12
URL:http://pages.destination.one/de/landkreis-cham/streaming/detail/Event/e
 _101258376/yoga-im-einklang-mit-der-natur
END:VEVENT
BEGIN:VEVENT
CATEGORIES:Gesundheit/Wellness
DESCRIPTION:Yoga im Einklang mit der Natur\n\nmehr Informationen unter http
 ://pages.destination.one/de/landkreis-cham/streaming/detail/Event/e_101258
 376/yoga-im-einklang-mit-der-natur
DTEND;TZID=Europe/Berlin:20260805T183000
DTSTAMP:20260422T025512Z
DTSTART;TZID=Europe/Berlin:20260805T173000
GEO:49.137762;13.130391
LOCATION:Panoramagarten bei der Mooshütte\, Mooshütte 3\, Lohberg
SEQUENCE:0
SUMMARY:YOGA im Einklang mit der Natur
UID:e_101258376_iv13
URL:http://pages.destination.one/de/landkreis-cham/streaming/detail/Event/e
 _101258376/yoga-im-einklang-mit-der-natur
END:VEVENT
BEGIN:VEVENT
CATEGORIES:Gesundheit/Wellness
DESCRIPTION:Yoga im Einklang mit der Natur\n\nmehr Informationen unter http
 ://pages.destination.one/de/landkreis-cham/streaming/detail/Event/e_101258
 376/yoga-im-einklang-mit-der-natur
DTEND;TZID=Europe/Berlin:20260812T183000
DTSTAMP:20260422T025512Z
DTSTART;TZID=Europe/Berlin:20260812T173000
GEO:49.137762;13.130391
LOCATION:Panoramagarten bei der Mooshütte\, Mooshütte 3\, Lohberg
SEQUENCE:0
SUMMARY:YOGA im Einklang mit der Natur
UID:e_101258376_iv14
URL:http://pages.destination.one/de/landkreis-cham/streaming/detail/Event/e
 _101258376/yoga-im-einklang-mit-der-natur
END:VEVENT
BEGIN:VTIMEZONE
TZID:Europe/Berlin
X-LIC-LOCATION:Europe/Berlin
BEGIN:DAYLIGHT
DTSTART:19700329T020000
RRULE:FREQ=YEARLY;BYDAY=-1SU;BYMONTH=3
TZNAME:CEST
TZOFFSETFROM:+0100
TZOFFSETTO:+0200
END:DAYLIGHT
BEGIN:STANDARD
DTSTART:19701025T030000
RRULE:FREQ=YEARLY;BYDAY=-1SU;BYMONTH=10
TZNAME:CET
TZOFFSETFROM:+0200
TZOFFSETTO:+0100
END:STANDARD
END:VTIMEZONE
END:VCALENDAR
