BEGIN:VCALENDAR
VERSION:2.0
PRODID:-//destination.one//NONSGML destination.meta API//DE
X-WR-CALDESC:A calendar powered by destination.meta
X-WR-CALNAME:landkreis-cham Kalender via destination.meta
BEGIN:VEVENT
CATEGORIES:Brauchtum/Kultur
CATEGORIES:Bühnenkunst
CATEGORIES:Feste/Bälle/Tanz
CATEGORIES:Gastronomie
CATEGORIES:Geselligkeit/Spiele/Treffen
CATEGORIES:Konzert
DESCRIPTION:Mit seinen Gespür für Dynamik und Atmosphäre formt das Ensemble
  jedes Konzert zu einer Reise durch swingende Grooves\, lyrische Balladen 
 und mitreißende Improvisationen. Dabei überzeugt das Ivan Audes Trio sowoh
 l in intimen Club-Settings als auch auf großen Festivalbühnen und begeiste
 rt Jazzkenner wie Neuentdecker gleichermaßen.\n\nmehr Informationen unter 
 http://pages.destination.one/de/landkreis-cham/streaming/detail/Event/e_10
 1225235/kultursommer-im-mgh-innenhof-ivan-audes-trio-jazzkonzert
DTEND;TZID=Europe/Berlin:20260819T220000
DTSTAMP:20260421T221253Z
DTSTART;TZID=Europe/Berlin:20260819T190000
GEO:49.377752;12.706597
LOCATION:Kulturkreis Waldmünchen\, Marktplatz 14\, Waldmünchen
SEQUENCE:0
SUMMARY:Kultursommer im MGH Innenhof "Ivan Audes Trio" - Jazzkonzert
UID:e_101225235_iv0
URL:http://pages.destination.one/de/landkreis-cham/streaming/detail/Event/e
 _101225235/kultursommer-im-mgh-innenhof-ivan-audes-trio-jazzkonzert
END:VEVENT
BEGIN:VTIMEZONE
TZID:Europe/Berlin
X-LIC-LOCATION:Europe/Berlin
BEGIN:DAYLIGHT
DTSTART:19700329T020000
RRULE:FREQ=YEARLY;BYDAY=-1SU;BYMONTH=3
TZNAME:CEST
TZOFFSETFROM:+0100
TZOFFSETTO:+0200
END:DAYLIGHT
BEGIN:STANDARD
DTSTART:19701025T030000
RRULE:FREQ=YEARLY;BYDAY=-1SU;BYMONTH=10
TZNAME:CET
TZOFFSETFROM:+0200
TZOFFSETTO:+0100
END:STANDARD
END:VTIMEZONE
END:VCALENDAR
