BEGIN:VCALENDAR
VERSION:2.0
PRODID:-//destination.one//NONSGML destination.meta API//DE
X-WR-CALDESC:A calendar powered by destination.meta
X-WR-CALNAME:landkreis-cham Kalender via destination.meta
BEGIN:VEVENT
CATEGORIES:Brauchtum/Kultur
CATEGORIES:Bühnenkunst
CATEGORIES:Gastronomie
CATEGORIES:Geselligkeit/Spiele/Treffen
CATEGORIES:Konzert
DESCRIPTION:Kultursommer mit der Band "Pinball Wizzard". Der Kultursommer f
 indet bei Regen in der TV Halle statt.\n\nmehr Informationen unter http://
 pages.destination.one/de/landkreis-cham/streaming/detail/Event/e_101225001
 /kultursommer-am-marktplatz-pinball-wizzard-konzert
DTEND;TZID=Europe/Berlin:20260812T220000
DTSTAMP:20260422T020349Z
DTSTART;TZID=Europe/Berlin:20260812T190000
GEO:49.377752;12.706597
LOCATION:Kulturkreis Waldmünchen\, Marktplatz 14\, Waldmünchen
ORGANIZER;CN=Kulturkreis Waldmünchen:mailto:heike.dannerbeck@waldmuenchen.d
 e
SEQUENCE:0
SUMMARY:Kultursommer am Marktplatz "Pinball Wizzard" - Konzert
UID:e_101225001_iv0
URL:http://pages.destination.one/de/landkreis-cham/streaming/detail/Event/e
 _101225001/kultursommer-am-marktplatz-pinball-wizzard-konzert
END:VEVENT
BEGIN:VTIMEZONE
TZID:Europe/Berlin
X-LIC-LOCATION:Europe/Berlin
BEGIN:DAYLIGHT
DTSTART:19700329T020000
RRULE:FREQ=YEARLY;BYDAY=-1SU;BYMONTH=3
TZNAME:CEST
TZOFFSETFROM:+0100
TZOFFSETTO:+0200
END:DAYLIGHT
BEGIN:STANDARD
DTSTART:19701025T030000
RRULE:FREQ=YEARLY;BYDAY=-1SU;BYMONTH=10
TZNAME:CET
TZOFFSETFROM:+0200
TZOFFSETTO:+0100
END:STANDARD
END:VTIMEZONE
END:VCALENDAR
