BEGIN:VCALENDAR
VERSION:2.0
PRODID:-//destination.one//NONSGML destination.meta API//DE
X-WR-CALDESC:A calendar powered by destination.meta
X-WR-CALNAME:landkreis-cham Kalender via destination.meta
BEGIN:VEVENT
CATEGORIES:Brauchtum/Kultur
CATEGORIES:Konzert
CATEGORIES:Vereine
CATEGORIES:Volksmusik
DESCRIPTION:\n\nmehr Informationen unter http://pages.destination.one/de/la
 ndkreis-cham/streaming/detail/Event/e_101216708/ein-sommerabend-mit-der-st
 amsrieder-blasmusik
DTEND;TZID=Europe/Berlin:20260815T230000
DTSTAMP:20260421T230618Z
DTSTART;TZID=Europe/Berlin:20260815T170000
GEO:49.267931;12.531613
LOCATION:Anwesen Braun\, gegenüber Musikhaus\, Schloßstraße\, Schloßstraße 
 8\, Stamsried
ORGANIZER;CN=Stamsrieder Blasmusik:mailto:info@stamsrieder-blasmusik.de
SEQUENCE:0
SUMMARY:Ein Sommerabend mit der Stamsrieder Blasmusik
UID:e_101216708_iv0
URL:http://pages.destination.one/de/landkreis-cham/streaming/detail/Event/e
 _101216708/ein-sommerabend-mit-der-stamsrieder-blasmusik
END:VEVENT
BEGIN:VTIMEZONE
TZID:Europe/Berlin
X-LIC-LOCATION:Europe/Berlin
BEGIN:DAYLIGHT
DTSTART:19700329T020000
RRULE:FREQ=YEARLY;BYDAY=-1SU;BYMONTH=3
TZNAME:CEST
TZOFFSETFROM:+0100
TZOFFSETTO:+0200
END:DAYLIGHT
BEGIN:STANDARD
DTSTART:19701025T030000
RRULE:FREQ=YEARLY;BYDAY=-1SU;BYMONTH=10
TZNAME:CET
TZOFFSETFROM:+0200
TZOFFSETTO:+0100
END:STANDARD
END:VTIMEZONE
END:VCALENDAR
