BEGIN:VCALENDAR
VERSION:2.0
PRODID:-//destination.one//NONSGML destination.meta API//DE
X-WR-CALDESC:A calendar powered by destination.meta
X-WR-CALNAME:landkreis-cham Kalender via destination.meta
BEGIN:VEVENT
CATEGORIES:Führung/Besichtigung
CATEGORIES:Vortrag/Lesung/Vorführung
CATEGORIES:Kulinarisches
DESCRIPTION:Schnapsprobe für alle Bergmädels\n\nmehr Informationen unter ht
 tp://pages.destination.one/de/landkreis-cham/streaming/detail/Event/e_1011
 91320/bergm-dels-b-rwurz-schnapsprobe-in-der-spezialit-tenbrennerei-drexle
 r
DTEND;TZID=Europe/Berlin:20260508T235900
DTSTAMP:20260419T220212Z
DTSTART;TZID=Europe/Berlin:20260508T140000
GEO:49.197104;12.977765
LOCATION:Schnapsbrennerei Drexler\, Lamerstr. 94\, Arrach
ORGANIZER;CN=Tourist-Information Arrach:mailto:tourist@arrach.de
SEQUENCE:0
SUMMARY:Bergmädels & Bärwurz: Schnapsprobe in der Spezialitätenbrennerei Dr
 exler
UID:e_101191320_iv0
URL:http://pages.destination.one/de/landkreis-cham/streaming/detail/Event/e
 _101191320/bergm-dels-b-rwurz-schnapsprobe-in-der-spezialit-tenbrennerei-d
 rexler
END:VEVENT
BEGIN:VTIMEZONE
TZID:Europe/Berlin
X-LIC-LOCATION:Europe/Berlin
BEGIN:DAYLIGHT
DTSTART:19700329T020000
RRULE:FREQ=YEARLY;BYDAY=-1SU;BYMONTH=3
TZNAME:CEST
TZOFFSETFROM:+0100
TZOFFSETTO:+0200
END:DAYLIGHT
BEGIN:STANDARD
DTSTART:19701025T030000
RRULE:FREQ=YEARLY;BYDAY=-1SU;BYMONTH=10
TZNAME:CET
TZOFFSETFROM:+0200
TZOFFSETTO:+0100
END:STANDARD
END:VTIMEZONE
END:VCALENDAR
