BEGIN:VCALENDAR
VERSION:2.0
PRODID:-//destination.one//NONSGML destination.meta API//DE
X-WR-CALDESC:A calendar powered by destination.meta
X-WR-CALNAME:landkreis-cham Kalender via destination.meta
BEGIN:VEVENT
CATEGORIES:Naturführungen
DESCRIPTION:Wann der Thammer mit dem Hammer... Rauhnacht auf dem Gibacht\n\
 nmehr Informationen unter http://pages.destination.one/de/landkreis-cham/s
 treaming/detail/Event/e_101171616/rauhnacht-auf-dem-gibacht
DTEND;TZID=Europe/Berlin:20260202T123000
DTSTAMP:20260421T211821Z
DTSTART;TZID=Europe/Berlin:20260202T083000
GEO:49.334533;12.766736
LOCATION:Wanderparkplatz Gibacht\, Gibacht 31\, Waldmünchen
ORGANIZER;CN=Naturpark Oberer Bayerischer Wald:mailto:info@naturpark-obw.de
PRIORITY:4
SEQUENCE:0
SUMMARY:Rauhnacht auf dem Gibacht
UID:e_101171616_iv0
URL:http://pages.destination.one/de/landkreis-cham/streaming/detail/Event/e
 _101171616/rauhnacht-auf-dem-gibacht
END:VEVENT
BEGIN:VEVENT
CATEGORIES:Naturführungen
DESCRIPTION:Wann der Thammer mit dem Hammer... Rauhnacht auf dem Gibacht\n\
 nmehr Informationen unter http://pages.destination.one/de/landkreis-cham/s
 treaming/detail/Event/e_101171616/rauhnacht-auf-dem-gibacht
DTEND;TZID=Europe/Berlin:20261221T160000
DTSTAMP:20260421T211821Z
DTSTART;TZID=Europe/Berlin:20261221T120000
GEO:49.334533;12.766736
LOCATION:Wanderparkplatz Gibacht\, Gibacht 31\, Waldmünchen
ORGANIZER;CN=Naturpark Oberer Bayerischer Wald:mailto:info@naturpark-obw.de
PRIORITY:4
SEQUENCE:0
SUMMARY:Rauhnacht auf dem Gibacht
UID:e_101171616_iv1
URL:http://pages.destination.one/de/landkreis-cham/streaming/detail/Event/e
 _101171616/rauhnacht-auf-dem-gibacht
END:VEVENT
BEGIN:VTIMEZONE
TZID:Europe/Berlin
X-LIC-LOCATION:Europe/Berlin
BEGIN:DAYLIGHT
DTSTART:19700329T020000
RRULE:FREQ=YEARLY;BYDAY=-1SU;BYMONTH=3
TZNAME:CEST
TZOFFSETFROM:+0100
TZOFFSETTO:+0200
END:DAYLIGHT
BEGIN:STANDARD
DTSTART:19701025T030000
RRULE:FREQ=YEARLY;BYDAY=-1SU;BYMONTH=10
TZNAME:CET
TZOFFSETFROM:+0200
TZOFFSETTO:+0100
END:STANDARD
END:VTIMEZONE
END:VCALENDAR
