BEGIN:VCALENDAR
VERSION:2.0
PRODID:-//destination.one//NONSGML destination.meta API//DE
X-WR-CALDESC:A calendar powered by destination.meta
X-WR-CALNAME:landkreis-cham Kalender via destination.meta
BEGIN:VEVENT
CATEGORIES:Naturführungen
DESCRIPTION:Auf den Spuren des Bibers\n\nmehr Informationen unter http://pa
 ges.destination.one/de/landkreis-cham/streaming/detail/Event/e_101171545/l
 ebensader-schwarzach-auf-den-spuren-des-bibers
DTEND;TZID=Europe/Berlin:20231025T153000
DTSTAMP:20260419T212454Z
DTSTART;TZID=Europe/Berlin:20231025T130000
GEO:49.389109;12.698173
LOCATION:Parkplatz vor dem Perlsee (Perlsee-Engel)\, Alte Ziegelhütte 3\, W
 aldmünchen
ORGANIZER;CN=Naturpark Oberer Bayerischer Wald:mailto:info@naturpark-obw.de
PRIORITY:4
SEQUENCE:0
SUMMARY: Lebensader Schwarzach -  Auf den Spuren des Bibers
UID:e_101171545_iv0
URL:http://pages.destination.one/de/landkreis-cham/streaming/detail/Event/e
 _101171545/lebensader-schwarzach-auf-den-spuren-des-bibers
END:VEVENT
BEGIN:VEVENT
CATEGORIES:Naturführungen
DESCRIPTION:Auf den Spuren des Bibers\n\nmehr Informationen unter http://pa
 ges.destination.one/de/landkreis-cham/streaming/detail/Event/e_101171545/l
 ebensader-schwarzach-auf-den-spuren-des-bibers
DTEND;TZID=Europe/Berlin:20251022T160000
DTSTAMP:20260419T212454Z
DTSTART;TZID=Europe/Berlin:20251022T133000
GEO:49.389109;12.698173
LOCATION:Parkplatz vor dem Perlsee (Perlsee-Engel)\, Alte Ziegelhütte 3\, W
 aldmünchen
ORGANIZER;CN=Naturpark Oberer Bayerischer Wald:mailto:info@naturpark-obw.de
PRIORITY:4
SEQUENCE:0
SUMMARY: Lebensader Schwarzach -  Auf den Spuren des Bibers
UID:e_101171545_iv1
URL:http://pages.destination.one/de/landkreis-cham/streaming/detail/Event/e
 _101171545/lebensader-schwarzach-auf-den-spuren-des-bibers
END:VEVENT
BEGIN:VEVENT
CATEGORIES:Naturführungen
DESCRIPTION:Auf den Spuren des Bibers\n\nmehr Informationen unter http://pa
 ges.destination.one/de/landkreis-cham/streaming/detail/Event/e_101171545/l
 ebensader-schwarzach-auf-den-spuren-des-bibers
DTEND;TZID=Europe/Berlin:20261105T160000
DTSTAMP:20260419T212454Z
DTSTART;TZID=Europe/Berlin:20261105T130000
GEO:49.389109;12.698173
LOCATION:Parkplatz vor dem Perlsee (Perlsee-Engel)\, Alte Ziegelhütte 3\, W
 aldmünchen
ORGANIZER;CN=Naturpark Oberer Bayerischer Wald:mailto:info@naturpark-obw.de
PRIORITY:4
SEQUENCE:0
SUMMARY: Lebensader Schwarzach -  Auf den Spuren des Bibers
UID:e_101171545_iv2
URL:http://pages.destination.one/de/landkreis-cham/streaming/detail/Event/e
 _101171545/lebensader-schwarzach-auf-den-spuren-des-bibers
END:VEVENT
BEGIN:VTIMEZONE
TZID:Europe/Berlin
X-LIC-LOCATION:Europe/Berlin
BEGIN:DAYLIGHT
DTSTART:19700329T020000
RRULE:FREQ=YEARLY;BYDAY=-1SU;BYMONTH=3
TZNAME:CEST
TZOFFSETFROM:+0100
TZOFFSETTO:+0200
END:DAYLIGHT
BEGIN:STANDARD
DTSTART:19701025T030000
RRULE:FREQ=YEARLY;BYDAY=-1SU;BYMONTH=10
TZNAME:CET
TZOFFSETFROM:+0200
TZOFFSETTO:+0100
END:STANDARD
END:VTIMEZONE
END:VCALENDAR
