BEGIN:VCALENDAR
VERSION:2.0
PRODID:-//destination.one//NONSGML destination.meta API//DE
X-WR-CALDESC:A calendar powered by destination.meta
X-WR-CALNAME:landkreis-cham Kalender via destination.meta
BEGIN:VEVENT
CATEGORIES:Naturführungen
DESCRIPTION:\n\nmehr Informationen unter http://pages.destination.one/de/la
 ndkreis-cham/streaming/detail/Event/e_101171524/aussicht-genie-en-von-herz
 ogau-zum-klammerfelsen
DTEND;TZID=Europe/Berlin:20260918T180000
DTSTAMP:20260420T070337Z
DTSTART;TZID=Europe/Berlin:20260918T150000
GEO:49.355936;12.718992
LOCATION:Kath. Kuratiekirche St. Anna und Sebastian\, Von-Voithenberg-Straß
 e 2\, Herzogau\, Waldmünchen
ORGANIZER;CN=Tourismus und Naturpark Oberer Bayerischer Wald:mailto:tourist
 ik@lra.landkreis-cham.de
PRIORITY:4
SEQUENCE:0
SUMMARY:Aussicht genießen. Von Herzogau zum Klammerfelsen
UID:e_101171524_iv0
URL:http://pages.destination.one/de/landkreis-cham/streaming/detail/Event/e
 _101171524/aussicht-genie-en-von-herzogau-zum-klammerfelsen
END:VEVENT
BEGIN:VTIMEZONE
TZID:Europe/Berlin
X-LIC-LOCATION:Europe/Berlin
BEGIN:DAYLIGHT
DTSTART:19700329T020000
RRULE:FREQ=YEARLY;BYDAY=-1SU;BYMONTH=3
TZNAME:CEST
TZOFFSETFROM:+0100
TZOFFSETTO:+0200
END:DAYLIGHT
BEGIN:STANDARD
DTSTART:19701025T030000
RRULE:FREQ=YEARLY;BYDAY=-1SU;BYMONTH=10
TZNAME:CET
TZOFFSETFROM:+0200
TZOFFSETTO:+0100
END:STANDARD
END:VTIMEZONE
END:VCALENDAR
