BEGIN:VCALENDAR
VERSION:2.0
PRODID:-//destination.one//NONSGML destination.meta API//DE
X-WR-CALDESC:A calendar powered by destination.meta
X-WR-CALNAME:landkreis-cham Kalender via destination.meta
BEGIN:VEVENT
CATEGORIES:Geselligkeit/Spiele/Treffen
CATEGORIES:Vereine
DESCRIPTION:am Rathausplatz\n\nmehr Informationen unter http://pages.destin
 ation.one/de/landkreis-cham/streaming/detail/Event/e_100577071/grillfest-b
 urschenverein
DTEND;TZID=Europe/Berlin:20230506T220000
DTSTAMP:20260423T061926Z
DTSTART;TZID=Europe/Berlin:20230506T180000
GEO:49.155389;12.725106
LOCATION:Rathausplatz\, Rathausplatz 1\, Zandt
ORGANIZER;CN=Burschenverein Zandt:mailto:burschenverein.zandt@gmail.de
SEQUENCE:0
SUMMARY:Grillfest Burschenverein
UID:e_100577071_iv0
URL:http://pages.destination.one/de/landkreis-cham/streaming/detail/Event/e
 _100577071/grillfest-burschenverein
END:VEVENT
BEGIN:VEVENT
CATEGORIES:Geselligkeit/Spiele/Treffen
CATEGORIES:Vereine
DESCRIPTION:am Rathausplatz\n\nmehr Informationen unter http://pages.destin
 ation.one/de/landkreis-cham/streaming/detail/Event/e_100577071/grillfest-b
 urschenverein
DTEND;TZID=Europe/Berlin:20240713T235900
DTSTAMP:20260423T061926Z
DTSTART;TZID=Europe/Berlin:20240713T190000
GEO:49.155389;12.725106
LOCATION:Rathausplatz\, Rathausplatz 1\, Zandt
ORGANIZER;CN=Burschenverein Zandt:mailto:burschenverein.zandt@gmail.de
SEQUENCE:0
SUMMARY:Grillfest Burschenverein
UID:e_100577071_iv1
URL:http://pages.destination.one/de/landkreis-cham/streaming/detail/Event/e
 _100577071/grillfest-burschenverein
END:VEVENT
BEGIN:VEVENT
CATEGORIES:Geselligkeit/Spiele/Treffen
CATEGORIES:Vereine
DESCRIPTION:am Rathausplatz\n\nmehr Informationen unter http://pages.destin
 ation.one/de/landkreis-cham/streaming/detail/Event/e_100577071/grillfest-b
 urschenverein
DTEND;TZID=Europe/Berlin:20260517T180000
DTSTAMP:20260423T061926Z
DTSTART;TZID=Europe/Berlin:20260517T100000
GEO:49.155389;12.725106
LOCATION:Rathausplatz\, Rathausplatz 1\, Zandt
ORGANIZER;CN=Burschenverein Zandt:mailto:burschenverein.zandt@gmail.de
SEQUENCE:0
SUMMARY:Grillfest Burschenverein
UID:e_100577071_iv2
URL:http://pages.destination.one/de/landkreis-cham/streaming/detail/Event/e
 _100577071/grillfest-burschenverein
END:VEVENT
BEGIN:VTIMEZONE
TZID:Europe/Berlin
X-LIC-LOCATION:Europe/Berlin
BEGIN:DAYLIGHT
DTSTART:19700329T020000
RRULE:FREQ=YEARLY;BYDAY=-1SU;BYMONTH=3
TZNAME:CEST
TZOFFSETFROM:+0100
TZOFFSETTO:+0200
END:DAYLIGHT
BEGIN:STANDARD
DTSTART:19701025T030000
RRULE:FREQ=YEARLY;BYDAY=-1SU;BYMONTH=10
TZNAME:CET
TZOFFSETFROM:+0200
TZOFFSETTO:+0100
END:STANDARD
END:VTIMEZONE
END:VCALENDAR
