BEGIN:VCALENDAR
VERSION:2.0
PRODID:-//destination.one//NONSGML destination.meta API//DE
X-WR-CALDESC:A calendar powered by destination.meta
X-WR-CALNAME:landkreis-cham Kalender via destination.meta
BEGIN:VEVENT
CATEGORIES:Brauchtum/Kultur
CATEGORIES:Feste/Bälle/Tanz
CATEGORIES:Party
CATEGORIES:Vereine
DESCRIPTION:Faschingsball\n\nmehr Informationen unter http://pages.destinat
 ion.one/de/landkreis-cham/streaming/detail/Event/e_100497307/faschingsball
 -der-ffw-arrach
DTEND;TZID=Europe/Berlin:20230211T235900
DTSTAMP:20260420T055259Z
DTSTART;TZID=Europe/Berlin:20230211T190000
GEO:49.192797;12.996172
LOCATION:Gasthaus Aschenbrenner\, Lamer Str. 83\, Arrach
ORGANIZER;CN=FFW Arrach:mailto:andreas.lohberger@feuerwehr-arrach.de
SEQUENCE:0
SUMMARY:Faschingsball der FFW Arrach
UID:e_100497307_iv0
URL:http://pages.destination.one/de/landkreis-cham/streaming/detail/Event/e
 _100497307/faschingsball-der-ffw-arrach
END:VEVENT
BEGIN:VEVENT
CATEGORIES:Brauchtum/Kultur
CATEGORIES:Feste/Bälle/Tanz
CATEGORIES:Party
CATEGORIES:Vereine
DESCRIPTION:Faschingsball\n\nmehr Informationen unter http://pages.destinat
 ion.one/de/landkreis-cham/streaming/detail/Event/e_100497307/faschingsball
 -der-ffw-arrach
DTEND;TZID=Europe/Berlin:20240127T235900
DTSTAMP:20260420T055259Z
DTSTART;TZID=Europe/Berlin:20240127T190000
GEO:49.192797;12.996172
LOCATION:Gasthaus Aschenbrenner\, Lamer Str. 83\, Arrach
ORGANIZER;CN=FFW Arrach:mailto:andreas.lohberger@feuerwehr-arrach.de
SEQUENCE:0
SUMMARY:Faschingsball der FFW Arrach
UID:e_100497307_iv1
URL:http://pages.destination.one/de/landkreis-cham/streaming/detail/Event/e
 _100497307/faschingsball-der-ffw-arrach
END:VEVENT
BEGIN:VEVENT
CATEGORIES:Brauchtum/Kultur
CATEGORIES:Feste/Bälle/Tanz
CATEGORIES:Party
CATEGORIES:Vereine
DESCRIPTION:Faschingsball\n\nmehr Informationen unter http://pages.destinat
 ion.one/de/landkreis-cham/streaming/detail/Event/e_100497307/faschingsball
 -der-ffw-arrach
DTEND;TZID=Europe/Berlin:20250125T235900
DTSTAMP:20260420T055259Z
DTSTART;TZID=Europe/Berlin:20250125T190000
GEO:49.192797;12.996172
LOCATION:Gasthaus Aschenbrenner\, Lamer Str. 83\, Arrach
ORGANIZER;CN=FFW Arrach:mailto:andreas.lohberger@feuerwehr-arrach.de
SEQUENCE:0
SUMMARY:Faschingsball der FFW Arrach
UID:e_100497307_iv2
URL:http://pages.destination.one/de/landkreis-cham/streaming/detail/Event/e
 _100497307/faschingsball-der-ffw-arrach
END:VEVENT
BEGIN:VEVENT
CATEGORIES:Brauchtum/Kultur
CATEGORIES:Feste/Bälle/Tanz
CATEGORIES:Party
CATEGORIES:Vereine
DESCRIPTION:Faschingsball\n\nmehr Informationen unter http://pages.destinat
 ion.one/de/landkreis-cham/streaming/detail/Event/e_100497307/faschingsball
 -der-ffw-arrach
DTEND;TZID=Europe/Berlin:20260131T235900
DTSTAMP:20260420T055259Z
DTSTART;TZID=Europe/Berlin:20260131T190000
GEO:49.192797;12.996172
LOCATION:Gasthaus Aschenbrenner\, Lamer Str. 83\, Arrach
ORGANIZER;CN=FFW Arrach:mailto:andreas.lohberger@feuerwehr-arrach.de
SEQUENCE:0
SUMMARY:Faschingsball der FFW Arrach
UID:e_100497307_iv3
URL:http://pages.destination.one/de/landkreis-cham/streaming/detail/Event/e
 _100497307/faschingsball-der-ffw-arrach
END:VEVENT
BEGIN:VEVENT
CATEGORIES:Brauchtum/Kultur
CATEGORIES:Feste/Bälle/Tanz
CATEGORIES:Party
CATEGORIES:Vereine
DESCRIPTION:Faschingsball\n\nmehr Informationen unter http://pages.destinat
 ion.one/de/landkreis-cham/streaming/detail/Event/e_100497307/faschingsball
 -der-ffw-arrach
DTEND;TZID=Europe/Berlin:20270123T235900
DTSTAMP:20260420T055259Z
DTSTART;TZID=Europe/Berlin:20270123T190000
GEO:49.192797;12.996172
LOCATION:Gasthaus Aschenbrenner\, Lamer Str. 83\, Arrach
ORGANIZER;CN=FFW Arrach:mailto:andreas.lohberger@feuerwehr-arrach.de
SEQUENCE:0
SUMMARY:Faschingsball der FFW Arrach
UID:e_100497307_iv4
URL:http://pages.destination.one/de/landkreis-cham/streaming/detail/Event/e
 _100497307/faschingsball-der-ffw-arrach
END:VEVENT
BEGIN:VTIMEZONE
TZID:Europe/Berlin
X-LIC-LOCATION:Europe/Berlin
BEGIN:DAYLIGHT
DTSTART:19700329T020000
RRULE:FREQ=YEARLY;BYDAY=-1SU;BYMONTH=3
TZNAME:CEST
TZOFFSETFROM:+0100
TZOFFSETTO:+0200
END:DAYLIGHT
BEGIN:STANDARD
DTSTART:19701025T030000
RRULE:FREQ=YEARLY;BYDAY=-1SU;BYMONTH=10
TZNAME:CET
TZOFFSETFROM:+0200
TZOFFSETTO:+0100
END:STANDARD
END:VTIMEZONE
END:VCALENDAR
