BEGIN:VCALENDAR
VERSION:2.0
PRODID:-//destination.one//NONSGML destination.meta API//DE
X-WR-CALDESC:A calendar powered by destination.meta
X-WR-CALNAME:landkreis-cham Kalender via destination.meta
BEGIN:VEVENT
CATEGORIES:Brauchtum/Kultur
CATEGORIES:Feste/Bälle/Tanz
CATEGORIES:Geselligkeit/Spiele/Treffen
DESCRIPTION:Zelt-und Hallenfest der FFW Ansdorf-Simpering\n\nmehr Informati
 onen unter http://pages.destination.one/de/landkreis-cham/streaming/detail
 /Event/e_100443426/zelt-und-hallenfest-der-ffw-ansdorf-simpering
DTEND;TZID=Europe/Berlin:20220820T235900
DTSTAMP:20260420T145302Z
DTSTART;TZID=Europe/Berlin:20220820T173000
GEO:49.204084;12.952205
LOCATION:Freiwillige Feuerwehr Ansdorf/Simpering\, Lamerstraße \, Hohenwart
 h
SEQUENCE:0
SUMMARY:Zelt und Hallenfest der FFW Ansdorf/Simpering
UID:e_100443426_iv0
URL:http://pages.destination.one/de/landkreis-cham/streaming/detail/Event/e
 _100443426/zelt-und-hallenfest-der-ffw-ansdorf-simpering
END:VEVENT
BEGIN:VEVENT
CATEGORIES:Brauchtum/Kultur
CATEGORIES:Feste/Bälle/Tanz
CATEGORIES:Geselligkeit/Spiele/Treffen
DESCRIPTION:Zelt-und Hallenfest der FFW Ansdorf-Simpering\n\nmehr Informati
 onen unter http://pages.destination.one/de/landkreis-cham/streaming/detail
 /Event/e_100443426/zelt-und-hallenfest-der-ffw-ansdorf-simpering
DTEND;TZID=Europe/Berlin:20230805T235900
DTSTAMP:20260420T145302Z
DTSTART;TZID=Europe/Berlin:20230805T180000
GEO:49.204084;12.952205
LOCATION:Freiwillige Feuerwehr Ansdorf/Simpering\, Lamerstraße \, Hohenwart
 h
SEQUENCE:0
SUMMARY:Zelt und Hallenfest der FFW Ansdorf/Simpering
UID:e_100443426_iv1
URL:http://pages.destination.one/de/landkreis-cham/streaming/detail/Event/e
 _100443426/zelt-und-hallenfest-der-ffw-ansdorf-simpering
END:VEVENT
BEGIN:VEVENT
CATEGORIES:Brauchtum/Kultur
CATEGORIES:Feste/Bälle/Tanz
CATEGORIES:Geselligkeit/Spiele/Treffen
DESCRIPTION:Zelt-und Hallenfest der FFW Ansdorf-Simpering\n\nmehr Informati
 onen unter http://pages.destination.one/de/landkreis-cham/streaming/detail
 /Event/e_100443426/zelt-und-hallenfest-der-ffw-ansdorf-simpering
DTEND;TZID=Europe/Berlin:20240803T235900
DTSTAMP:20260420T145302Z
DTSTART;TZID=Europe/Berlin:20240803T180000
GEO:49.204084;12.952205
LOCATION:Freiwillige Feuerwehr Ansdorf/Simpering\, Lamerstraße \, Hohenwart
 h
SEQUENCE:0
SUMMARY:Zelt und Hallenfest der FFW Ansdorf/Simpering
UID:e_100443426_iv2
URL:http://pages.destination.one/de/landkreis-cham/streaming/detail/Event/e
 _100443426/zelt-und-hallenfest-der-ffw-ansdorf-simpering
END:VEVENT
BEGIN:VEVENT
CATEGORIES:Brauchtum/Kultur
CATEGORIES:Feste/Bälle/Tanz
CATEGORIES:Geselligkeit/Spiele/Treffen
DESCRIPTION:Zelt-und Hallenfest der FFW Ansdorf-Simpering\n\nmehr Informati
 onen unter http://pages.destination.one/de/landkreis-cham/streaming/detail
 /Event/e_100443426/zelt-und-hallenfest-der-ffw-ansdorf-simpering
DTEND;TZID=Europe/Berlin:20250802T235900
DTSTAMP:20260420T145302Z
DTSTART;TZID=Europe/Berlin:20250802T180000
GEO:49.204084;12.952205
LOCATION:Freiwillige Feuerwehr Ansdorf/Simpering\, Lamerstraße \, Hohenwart
 h
SEQUENCE:0
SUMMARY:Zelt und Hallenfest der FFW Ansdorf/Simpering
UID:e_100443426_iv3
URL:http://pages.destination.one/de/landkreis-cham/streaming/detail/Event/e
 _100443426/zelt-und-hallenfest-der-ffw-ansdorf-simpering
END:VEVENT
BEGIN:VEVENT
CATEGORIES:Brauchtum/Kultur
CATEGORIES:Feste/Bälle/Tanz
CATEGORIES:Geselligkeit/Spiele/Treffen
DESCRIPTION:Zelt-und Hallenfest der FFW Ansdorf-Simpering\n\nmehr Informati
 onen unter http://pages.destination.one/de/landkreis-cham/streaming/detail
 /Event/e_100443426/zelt-und-hallenfest-der-ffw-ansdorf-simpering
DTEND;TZID=Europe/Berlin:20260808T235900
DTSTAMP:20260420T145302Z
DTSTART;TZID=Europe/Berlin:20260808T170000
GEO:49.204084;12.952205
LOCATION:Freiwillige Feuerwehr Ansdorf/Simpering\, Lamerstraße \, Hohenwart
 h
SEQUENCE:0
SUMMARY:Zelt und Hallenfest der FFW Ansdorf/Simpering
UID:e_100443426_iv4
URL:http://pages.destination.one/de/landkreis-cham/streaming/detail/Event/e
 _100443426/zelt-und-hallenfest-der-ffw-ansdorf-simpering
END:VEVENT
BEGIN:VTIMEZONE
TZID:Europe/Berlin
X-LIC-LOCATION:Europe/Berlin
BEGIN:DAYLIGHT
DTSTART:19700329T020000
RRULE:FREQ=YEARLY;BYDAY=-1SU;BYMONTH=3
TZNAME:CEST
TZOFFSETFROM:+0100
TZOFFSETTO:+0200
END:DAYLIGHT
BEGIN:STANDARD
DTSTART:19701025T030000
RRULE:FREQ=YEARLY;BYDAY=-1SU;BYMONTH=10
TZNAME:CET
TZOFFSETFROM:+0200
TZOFFSETTO:+0100
END:STANDARD
END:VTIMEZONE
END:VCALENDAR
