BEGIN:VCALENDAR
VERSION:2.0
PRODID:-//destination.one//NONSGML destination.meta API//DE
X-WR-CALDESC:A calendar powered by destination.meta
X-WR-CALNAME:landkreis-cham Kalender via destination.meta
BEGIN:VEVENT
CATEGORIES:Naturführungen
DESCRIPTION:Natur pur\n\nmehr Informationen unter http://pages.destination.
 one/de/landkreis-cham/streaming/detail/Event/e_100251697/natur-und-vogelsc
 hutz-an-den-r-telseeweihern
DTEND;TZID=Europe/Berlin:20250601T160000
DTSTAMP:20260421T104800Z
DTSTART;TZID=Europe/Berlin:20250601T140000
GEO:49.217261;12.612648
LOCATION:Rötelseeweiher\, Naturschutzgebiet\, Laichstätt\, Cham
ORGANIZER;CN="Rötelseeweiher, Naturschutzgebiet":mailto:regentalaue@lra.lan
 dkreis-cham.de
SEQUENCE:0
SUMMARY:Natur- und Vogelschutz an den Rötelseeweihern 
UID:e_100251697_iv0
URL:http://pages.destination.one/de/landkreis-cham/streaming/detail/Event/e
 _100251697/natur-und-vogelschutz-an-den-r-telseeweihern
END:VEVENT
BEGIN:VEVENT
CATEGORIES:Naturführungen
DESCRIPTION:Natur pur\n\nmehr Informationen unter http://pages.destination.
 one/de/landkreis-cham/streaming/detail/Event/e_100251697/natur-und-vogelsc
 hutz-an-den-r-telseeweihern
DTEND;TZID=Europe/Berlin:20260607T160000
DTSTAMP:20260421T104800Z
DTSTART;TZID=Europe/Berlin:20260607T140000
GEO:49.217261;12.612648
LOCATION:Rötelseeweiher\, Naturschutzgebiet\, Laichstätt\, Cham
ORGANIZER;CN="Rötelseeweiher, Naturschutzgebiet":mailto:regentalaue@lra.lan
 dkreis-cham.de
SEQUENCE:0
SUMMARY:Natur- und Vogelschutz an den Rötelseeweihern 
UID:e_100251697_iv1
URL:http://pages.destination.one/de/landkreis-cham/streaming/detail/Event/e
 _100251697/natur-und-vogelschutz-an-den-r-telseeweihern
END:VEVENT
BEGIN:VTIMEZONE
TZID:Europe/Berlin
X-LIC-LOCATION:Europe/Berlin
BEGIN:DAYLIGHT
DTSTART:19700329T020000
RRULE:FREQ=YEARLY;BYDAY=-1SU;BYMONTH=3
TZNAME:CEST
TZOFFSETFROM:+0100
TZOFFSETTO:+0200
END:DAYLIGHT
BEGIN:STANDARD
DTSTART:19701025T030000
RRULE:FREQ=YEARLY;BYDAY=-1SU;BYMONTH=10
TZNAME:CET
TZOFFSETFROM:+0200
TZOFFSETTO:+0100
END:STANDARD
END:VTIMEZONE
END:VCALENDAR
