BEGIN:VCALENDAR
VERSION:2.0
PRODID:-//destination.one//NONSGML destination.meta API//DE
X-WR-CALDESC:A calendar powered by destination.meta
X-WR-CALNAME:landkreis-cham Kalender via destination.meta
BEGIN:VEVENT
CATEGORIES:Gesundheit/Wellness
CATEGORIES:Sport/Freizeit
DESCRIPTION:"Vinyasa Flow" im Panorama-Park - fließend.kräftigend.entspanne
 nd.\n\nmehr Informationen unter http://pages.destination.one/de/landkreis-
 cham/streaming/detail/Event/e_100046453/vinyasa-flow-im-panorama-park-flie
 -end-kr-ftigend-entspannend
DTEND;TZID=Europe/Berlin:20260725T203000
DTSTAMP:20260419T212516Z
DTSTART;TZID=Europe/Berlin:20260725T190000
GEO:49.197480;13.045964
LOCATION:Panorama-Park Lam\, Kinogasse\, Lam
ORGANIZER;CN=Tourist Infos Lamer Winkel:mailto:tourist@lam.de
SEQUENCE:0
SUMMARY:"Vinyasa Flow" im Panorama-Park - fließend.kräftigend.entspannend
UID:e_100046453_iv0
URL:http://pages.destination.one/de/landkreis-cham/streaming/detail/Event/e
 _100046453/vinyasa-flow-im-panorama-park-flie-end-kr-ftigend-entspannend
END:VEVENT
BEGIN:VTIMEZONE
TZID:Europe/Berlin
X-LIC-LOCATION:Europe/Berlin
BEGIN:DAYLIGHT
DTSTART:19700329T020000
RRULE:FREQ=YEARLY;BYDAY=-1SU;BYMONTH=3
TZNAME:CEST
TZOFFSETFROM:+0100
TZOFFSETTO:+0200
END:DAYLIGHT
BEGIN:STANDARD
DTSTART:19701025T030000
RRULE:FREQ=YEARLY;BYDAY=-1SU;BYMONTH=10
TZNAME:CET
TZOFFSETFROM:+0200
TZOFFSETTO:+0100
END:STANDARD
END:VTIMEZONE
END:VCALENDAR
