BEGIN:VCALENDAR
VERSION:2.0
PRODID:-//destination.one//NONSGML destination.meta API//DE
X-WR-CALDESC:A calendar powered by destination.meta
X-WR-CALNAME:landkreis-cham Kalender via destination.meta
BEGIN:VEVENT
CATEGORIES:religiöse Veranstaltung
DESCRIPTION:Bergmesse am wunderschönen Schwarzeck\n\nmehr Informationen unt
 er http://pages.destination.one/de/landkreis-cham/streaming/detail/Event/e
 _100037466/bergmesse-am-schwarzeck
DTEND;TZID=Europe/Berlin:20260830T235900
DTSTAMP:20260422T111842Z
DTSTART;TZID=Europe/Berlin:20260830T140000
GEO:49.146542;13.065534
LOCATION:Schwarzeck\, am Wanderweg LO7\, Lohberg
SEQUENCE:0
SUMMARY:Bergmesse am Schwarzeck
UID:e_100037466_iv0
URL:http://pages.destination.one/de/landkreis-cham/streaming/detail/Event/e
 _100037466/bergmesse-am-schwarzeck
END:VEVENT
BEGIN:VTIMEZONE
TZID:Europe/Berlin
X-LIC-LOCATION:Europe/Berlin
BEGIN:DAYLIGHT
DTSTART:19700329T020000
RRULE:FREQ=YEARLY;BYDAY=-1SU;BYMONTH=3
TZNAME:CEST
TZOFFSETFROM:+0100
TZOFFSETTO:+0200
END:DAYLIGHT
BEGIN:STANDARD
DTSTART:19701025T030000
RRULE:FREQ=YEARLY;BYDAY=-1SU;BYMONTH=10
TZNAME:CET
TZOFFSETFROM:+0200
TZOFFSETTO:+0100
END:STANDARD
END:VTIMEZONE
END:VCALENDAR
