BEGIN:VCALENDAR
VERSION:2.0
PRODID:-//destination.one//NONSGML destination.meta API//DE
X-WR-CALDESC:A calendar powered by destination.meta
X-WR-CALNAME:landkreis-cham Kalender via destination.meta
BEGIN:VEVENT
CATEGORIES:Brauchtum/Kultur
CATEGORIES:Markt
DESCRIPTION:Festgottesdienst mit anschließendem Standmarkt.\nab ca. 15 Uhr 
 Maibaumaufstellen\n\n​Maibaumaufstellen mit dem Trachtenverein "D`Enzianbu
 am"\, Umzug mit von Pferden gezogenem Maibaum zum Rathausplatz\, Aufstelle
 n des Baumes mit Muskelkraft - Bewirtung\, Musik und Tanzvorführungen\n\nm
 ehr Informationen unter http://pages.destination.one/de/landkreis-cham/str
 eaming/detail/Event/e_100015801/maibaumaufstellen-in-lohberg
DTEND;TZID=Europe/Berlin:20260501T235900
DTSTAMP:20260419T162831Z
DTSTART;TZID=Europe/Berlin:20260501T143000
GEO:49.174743;13.105867
LOCATION:Kath. Pfarrkirche St. Walburga\, Pfarrweg 6\, Lohberg
SEQUENCE:0
SUMMARY:Maibaumaufstellen in Lohberg
UID:e_100015801_iv0
URL:http://pages.destination.one/de/landkreis-cham/streaming/detail/Event/e
 _100015801/maibaumaufstellen-in-lohberg
END:VEVENT
BEGIN:VTIMEZONE
TZID:Europe/Berlin
X-LIC-LOCATION:Europe/Berlin
BEGIN:DAYLIGHT
DTSTART:19700329T020000
RRULE:FREQ=YEARLY;BYDAY=-1SU;BYMONTH=3
TZNAME:CEST
TZOFFSETFROM:+0100
TZOFFSETTO:+0200
END:DAYLIGHT
BEGIN:STANDARD
DTSTART:19701025T030000
RRULE:FREQ=YEARLY;BYDAY=-1SU;BYMONTH=10
TZNAME:CET
TZOFFSETFROM:+0200
TZOFFSETTO:+0100
END:STANDARD
END:VTIMEZONE
END:VCALENDAR
